BEGIN:VCALENDAR
VERSION:2.0
PRODID:-//Ryan Kurylo Fine Artist - ECPv6.15.20//NONSGML v1.0//EN
CALSCALE:GREGORIAN
METHOD:PUBLISH
X-WR-CALNAME:Ryan Kurylo Fine Artist
X-ORIGINAL-URL:https://ryankurylo.com
X-WR-CALDESC:Events for Ryan Kurylo Fine Artist
REFRESH-INTERVAL;VALUE=DURATION:PT1H
X-Robots-Tag:noindex
X-PUBLISHED-TTL:PT1H
BEGIN:VTIMEZONE
TZID:America/Edmonton
BEGIN:DAYLIGHT
TZOFFSETFROM:-0700
TZOFFSETTO:-0600
TZNAME:MDT
DTSTART:20250309T090000
END:DAYLIGHT
BEGIN:STANDARD
TZOFFSETFROM:-0600
TZOFFSETTO:-0700
TZNAME:MST
DTSTART:20251102T080000
END:STANDARD
BEGIN:DAYLIGHT
TZOFFSETFROM:-0700
TZOFFSETTO:-0600
TZNAME:MDT
DTSTART:20260308T090000
END:DAYLIGHT
BEGIN:STANDARD
TZOFFSETFROM:-0600
TZOFFSETTO:-0700
TZNAME:MST
DTSTART:20261101T080000
END:STANDARD
BEGIN:DAYLIGHT
TZOFFSETFROM:-0700
TZOFFSETTO:-0600
TZNAME:MDT
DTSTART:20270314T090000
END:DAYLIGHT
BEGIN:STANDARD
TZOFFSETFROM:-0600
TZOFFSETTO:-0700
TZNAME:MST
DTSTART:20271107T080000
END:STANDARD
END:VTIMEZONE
BEGIN:VEVENT
DTSTART;TZID=America/Edmonton:20260328T110000
DTEND;TZID=America/Edmonton:20260328T170000
DTSTAMP:20260421T192350
CREATED:20260312T225159Z
LAST-MODIFIED:20260312T225159Z
UID:869-1774695600-1774717200@ryankurylo.com
SUMMARY:Fantastic Faces Workshop - Pigeon Lake
DESCRIPTION:Discover the joy of sculpting fantastic faces in this hands-on workshop using natural pottery clay in a spectacular setting. Guided by your passionate instructor\, you will explore the nuances of the human face. Through step-by-step demonstrations\, you will experience basic sculpting techniques\, emphasizing the creation of lively and evocative sculptures. Then you add your own expressive finishes to develop a unique expression of your creativity. Come with an idea for your character or simply let it evolve as you sculpt. Finally we will hollow-out our sculptures in preparation for drying and later firing in the kiln for a true fine art creation! \nThis workshop is designed for all skill levels\, fostering a supportive and creative environment where each artist can infuse their unique emotions into the clay\, resulting in a truly expressive and personalized sculpture. \nRenowned Albertan artist and sculpting instructor Ryan Kurylo brings his expertise and passion to every workshop\, with a gentle approach and enjoyable teaching style he has inspired many to discover\, or re-discover their passion for sculpture. \nTo Register Email: margot@barnswallowcorner.ca
URL:https://ryankurylo.com/event/fantastic-faces-workshop-pigeon-lake/
LOCATION:Frog & Moon Forest Retreat Pigeon Lake\, Address Given Upon Registration\, (Close to The Village)\, Canada
ATTACH;FMTTYPE=image/jpeg:https://ryankurylo.com/wp-content/uploads/2026/03/Fantastic-Faces-2026.jpeg
ORGANIZER;CN="Margot":MAILTO:margot@barnswallowcorner.ca
END:VEVENT
END:VCALENDAR