BEGIN:VCALENDAR
VERSION:2.0
PRODID:-//Ryan Kurylo Fine Artist - ECPv6.15.20//NONSGML v1.0//EN
CALSCALE:GREGORIAN
METHOD:PUBLISH
X-WR-CALNAME:Ryan Kurylo Fine Artist
X-ORIGINAL-URL:https://ryankurylo.com
X-WR-CALDESC:Events for Ryan Kurylo Fine Artist
REFRESH-INTERVAL;VALUE=DURATION:PT1H
X-Robots-Tag:noindex
X-PUBLISHED-TTL:PT1H
BEGIN:VTIMEZONE
TZID:America/Edmonton
BEGIN:DAYLIGHT
TZOFFSETFROM:-0700
TZOFFSETTO:-0600
TZNAME:MDT
DTSTART:20220313T090000
END:DAYLIGHT
BEGIN:STANDARD
TZOFFSETFROM:-0600
TZOFFSETTO:-0700
TZNAME:MST
DTSTART:20221106T080000
END:STANDARD
BEGIN:DAYLIGHT
TZOFFSETFROM:-0700
TZOFFSETTO:-0600
TZNAME:MDT
DTSTART:20230312T090000
END:DAYLIGHT
BEGIN:STANDARD
TZOFFSETFROM:-0600
TZOFFSETTO:-0700
TZNAME:MST
DTSTART:20231105T080000
END:STANDARD
BEGIN:DAYLIGHT
TZOFFSETFROM:-0700
TZOFFSETTO:-0600
TZNAME:MDT
DTSTART:20240310T090000
END:DAYLIGHT
BEGIN:STANDARD
TZOFFSETFROM:-0600
TZOFFSETTO:-0700
TZNAME:MST
DTSTART:20241103T080000
END:STANDARD
END:VTIMEZONE
BEGIN:VEVENT
DTSTART;TZID=America/Edmonton:20230501T110000
DTEND;TZID=America/Edmonton:20230501T170000
DTSTAMP:20260422T170301
CREATED:20230403T192924Z
LAST-MODIFIED:20230403T193210Z
UID:714-1682938800-1682960400@ryankurylo.com
SUMMARY:Character Sculpting
DESCRIPTION:Have a fun experience sculpting the human head with clay. Using traditional clay\, you will be guided through the steps to create a ½ life size\, realistic human head sculpture. \nRyan’s low-stress environment is great for beginners to experience clay sculpture for the first time or for experienced artists to sharpen their visual communication skills. \nLearn how to create the human face with realism and style. Difficult to sculpt shapes like eyes\, nose and mouth are simplified. This class will improve the skills of intermediate sculptors and 2D artists alike. Bring home your sculpture to proudly display on your shelf or use it as a model for further 2D and 3D works. \nCall The Paint Spot to Register: 780-432-0240
URL:https://ryankurylo.com/event/character-sculpting/
LOCATION:The Paint Spot Artelier Studio\, 10045 81 Ave\, Edmonton\, AB\, Canada
ATTACH;FMTTYPE=image/jpeg:https://ryankurylo.com/wp-content/uploads/2023/03/Sculpting-the-Human-Face.jpg
END:VEVENT
BEGIN:VEVENT
DTSTART;TZID=America/Edmonton:20230319T123000
DTEND;TZID=America/Edmonton:20230319T173000
DTSTAMP:20260422T170301
CREATED:20230307T060241Z
LAST-MODIFIED:20230421T203051Z
UID:509-1679229000-1679247000@ryankurylo.com
SUMMARY:Sculpting With Style - Human Face
DESCRIPTION:Sunday March 19 2023 \n12:30 PM – 5:30 PM \n$90 ($80 + $10 Supply Fee) \nHave a fun experience sculpting the human head with clay. Using traditional clay\, you will be guided through the steps to create a ½ life size\, realistic human head. \nRyan’s low-stress environment is great for beginners to experience clay sculpture for the first time or for experienced artists to sharpen their visual communication skills. \nLearn how to create the human face with realism and style. Difficult to sculpt shapes like eyes\, nose and mouth are simplified. This class will improve the skills of intermediate sculptors and 2D artists alike. Bring home your sculpture to proudly display on your shelf or use it as a model for further 2D and 3D works. \nCall The Paint Spot to Register: 780-432-0240
URL:https://ryankurylo.com/event/sculpting-with-style-human-face-sunday-march-15-2023/
LOCATION:The Paint Spot Artelier Studio\, 10045 81 Ave\, Edmonton\, AB\, Canada
ATTACH;FMTTYPE=image/jpeg:https://ryankurylo.com/wp-content/uploads/2023/03/Sculpting-the-Human-Face.jpg
END:VEVENT
END:VCALENDAR