BEGIN:VCALENDAR
VERSION:2.0
PRODID:-//Ryan Kurylo Fine Artist - ECPv6.15.20//NONSGML v1.0//EN
CALSCALE:GREGORIAN
METHOD:PUBLISH
X-ORIGINAL-URL:https://ryankurylo.com
X-WR-CALDESC:Events for Ryan Kurylo Fine Artist
REFRESH-INTERVAL;VALUE=DURATION:PT1H
X-Robots-Tag:noindex
X-PUBLISHED-TTL:PT1H
BEGIN:VTIMEZONE
TZID:America/Edmonton
BEGIN:DAYLIGHT
TZOFFSETFROM:-0700
TZOFFSETTO:-0600
TZNAME:MDT
DTSTART:20250309T090000
END:DAYLIGHT
BEGIN:STANDARD
TZOFFSETFROM:-0600
TZOFFSETTO:-0700
TZNAME:MST
DTSTART:20251102T080000
END:STANDARD
BEGIN:DAYLIGHT
TZOFFSETFROM:-0700
TZOFFSETTO:-0600
TZNAME:MDT
DTSTART:20260308T090000
END:DAYLIGHT
BEGIN:STANDARD
TZOFFSETFROM:-0600
TZOFFSETTO:-0700
TZNAME:MST
DTSTART:20261101T080000
END:STANDARD
BEGIN:DAYLIGHT
TZOFFSETFROM:-0700
TZOFFSETTO:-0600
TZNAME:MDT
DTSTART:20270314T090000
END:DAYLIGHT
BEGIN:STANDARD
TZOFFSETFROM:-0600
TZOFFSETTO:-0700
TZNAME:MST
DTSTART:20271107T080000
END:STANDARD
END:VTIMEZONE
BEGIN:VEVENT
DTSTART;VALUE=DATE:20260815
DTEND;VALUE=DATE:20260817
DTSTAMP:20260424T044813
CREATED:20260312T233321Z
LAST-MODIFIED:20260312T233321Z
UID:896-1786752000-1786924799@ryankurylo.com
SUMMARY:Anatomy for Artists - Sherwood Park
DESCRIPTION:This 2-day anatomy workshop offers an immersive experience focusing on human anatomy. Participants enhance understanding by adding clay muscles to an ecorche model\, a hands-on technique that deepens appreciation of anatomical structures and functions. Sculpting each muscle layer lets students observe the human figure’s form and muscle attachments\, reinforcing theoretical knowledge. This active engagement aids comprehensive understanding of the human body’s proportional canon. The collaborative environment allows peer discussion\, enriching the learning experience. \n \nEnhance your figure work with this rare 3D clay anatomy sculpture workshop. Focused on human anatomy\, this workshop covers surface muscles and bony landmarks. We’ll start with an overview of skeletal and muscular anatomy’s role in realistic art. Through lectures\, demonstrations\, and hands-on practice\, you’ll learn to build clay muscles on a skeleton armature to create a classic ecorche (muscle and bone) study. Receive individual feedback\, guidance and encouragement as you complete a dynamically posed anatomy figure. Suitable for all skill levels\, this experiential workshop aims to improve your figurative art across all mediums. \nIncludes clay\, tools and your own personal 16″ anatomy model to keep. \n10am – 5pm August 15 & 16\, 2026 \nVenue: Renaissance Sculpture Academy\, Sherwood Park\, AB address given upon registration. \nTo Register Email: ryan@ryankurylo.com \n \n 
URL:https://ryankurylo.com/event/anatomy-for-artists-sherwood-park/
LOCATION:Renaissance Sculpture Academy\, Address Given Upon Registration\, Sherwood Park\, Canada
ATTACH;FMTTYPE=image/jpeg:https://ryankurylo.com/wp-content/uploads/2023/04/FD9D2F5A-15BA-4F76-9C16-6ADB574D4836.jpeg
END:VEVENT
END:VCALENDAR