BEGIN:VCALENDAR
VERSION:2.0
PRODID:-//Ryan Kurylo Fine Artist - ECPv6.15.20//NONSGML v1.0//EN
CALSCALE:GREGORIAN
METHOD:PUBLISH
X-WR-CALNAME:Ryan Kurylo Fine Artist
X-ORIGINAL-URL:https://ryankurylo.com
X-WR-CALDESC:Events for Ryan Kurylo Fine Artist
REFRESH-INTERVAL;VALUE=DURATION:PT1H
X-Robots-Tag:noindex
X-PUBLISHED-TTL:PT1H
BEGIN:VTIMEZONE
TZID:America/Edmonton
BEGIN:DAYLIGHT
TZOFFSETFROM:-0700
TZOFFSETTO:-0600
TZNAME:MDT
DTSTART:20250309T090000
END:DAYLIGHT
BEGIN:STANDARD
TZOFFSETFROM:-0600
TZOFFSETTO:-0700
TZNAME:MST
DTSTART:20251102T080000
END:STANDARD
BEGIN:DAYLIGHT
TZOFFSETFROM:-0700
TZOFFSETTO:-0600
TZNAME:MDT
DTSTART:20260308T090000
END:DAYLIGHT
BEGIN:STANDARD
TZOFFSETFROM:-0600
TZOFFSETTO:-0700
TZNAME:MST
DTSTART:20261101T080000
END:STANDARD
BEGIN:DAYLIGHT
TZOFFSETFROM:-0700
TZOFFSETTO:-0600
TZNAME:MDT
DTSTART:20270314T090000
END:DAYLIGHT
BEGIN:STANDARD
TZOFFSETFROM:-0600
TZOFFSETTO:-0700
TZNAME:MST
DTSTART:20271107T080000
END:STANDARD
END:VTIMEZONE
BEGIN:VEVENT
DTSTART;TZID=America/Edmonton:20260628T100000
DTEND;TZID=America/Edmonton:20260628T170000
DTSTAMP:20260422T020317
CREATED:20260312T231743Z
LAST-MODIFIED:20260404T172958Z
UID:888-1782640800-1782666000@ryankurylo.com
SUMMARY:Animal Relief Sculpting - Bonnyville
DESCRIPTION:Hosted by Aurora Visual Arts Association \n\n\n\n\nDiscover the joy of sculpting fantastic faces in this hands-on workshop with natural pottery clay. Guided by your passionate instructor\, you will explore the nuances of the human face. Through step- by-step demonstrations\, participants will experience basic sculpting techniques\, emphasizing the creation of lively and evocative sculptures. Finally we will hollow-out our sculptures in preparation for drying and later firing in the kiln for a true fine art creation! \nThis workshop is designed for all skill levels\, fostering a supportive and creative environment where each artist can infuse their unique emotions into the clay\, resulting in a truly expressive and personalized sculpture. \nRenowned Albertan artist and sculpting instructor Ryan Kurylo brings his expertise and passion to every class\, with a gentle approach and enjoyable teaching style he has inspired many to discover\, or re-discover their passion for sculpture. \n\n\n\n\n  \nLocation is in Bonnyville AB. Neighbourhood Inn Hotel.
URL:https://ryankurylo.com/event/fantastic-faces-bonnyville/
LOCATION:Aurora Visual Arts Association\, Bonnyville\, AB\, Canada
ATTACH;FMTTYPE=image/jpeg:https://ryankurylo.com/wp-content/uploads/2026/03/IMG_0543.jpg
END:VEVENT
END:VCALENDAR