BEGIN:VCALENDAR
VERSION:2.0
PRODID:-//Ryan Kurylo Fine Artist - ECPv6.15.20//NONSGML v1.0//EN
CALSCALE:GREGORIAN
METHOD:PUBLISH
X-ORIGINAL-URL:https://ryankurylo.com
X-WR-CALDESC:Events for Ryan Kurylo Fine Artist
REFRESH-INTERVAL;VALUE=DURATION:PT1H
X-Robots-Tag:noindex
X-PUBLISHED-TTL:PT1H
BEGIN:VTIMEZONE
TZID:America/Edmonton
BEGIN:DAYLIGHT
TZOFFSETFROM:-0700
TZOFFSETTO:-0600
TZNAME:MDT
DTSTART:20250309T090000
END:DAYLIGHT
BEGIN:STANDARD
TZOFFSETFROM:-0600
TZOFFSETTO:-0700
TZNAME:MST
DTSTART:20251102T080000
END:STANDARD
BEGIN:DAYLIGHT
TZOFFSETFROM:-0700
TZOFFSETTO:-0600
TZNAME:MDT
DTSTART:20260308T090000
END:DAYLIGHT
BEGIN:STANDARD
TZOFFSETFROM:-0600
TZOFFSETTO:-0700
TZNAME:MST
DTSTART:20261101T080000
END:STANDARD
BEGIN:DAYLIGHT
TZOFFSETFROM:-0700
TZOFFSETTO:-0600
TZNAME:MDT
DTSTART:20270314T090000
END:DAYLIGHT
BEGIN:STANDARD
TZOFFSETFROM:-0600
TZOFFSETTO:-0700
TZNAME:MST
DTSTART:20271107T080000
END:STANDARD
END:VTIMEZONE
BEGIN:VEVENT
DTSTART;TZID=America/Edmonton:20260606T100000
DTEND;TZID=America/Edmonton:20260606T170000
DTSTAMP:20260422T021029
CREATED:20260312T231219Z
LAST-MODIFIED:20260312T231219Z
UID:880-1780740000-1780765200@ryankurylo.com
SUMMARY:Elements of the Face - Sherwood Park
DESCRIPTION:An intensive one-day sculpting workshop focused on sculpting and understanding the most critical facial elements for portrait artists: life-size eye\, nose\, lips\, and ear. Inspired by the refined anatomy and expressive structure of Michelangelo’s David\, this course offers a deep\, analytical study of form\, proportion\, and plane changes\, designed specifically for portrait artists seeking to strengthen their understanding of classical facial construction. \nIncludes clay\, materials and a set of high quality facial elements reference objects to take home with your studies. \n \nHosted at Ryan’s personal sculpture studio in Sherwood Park\, the address will be provided upon registration. \nTo Register Email: ryan@ryankurylo.com
URL:https://ryankurylo.com/event/elements-of-the-face-sherwood-park/
LOCATION:Renaissance Sculpture Academy\, Address Given Upon Registration\, Sherwood Park\, Canada
ATTACH;FMTTYPE=image/jpeg:https://ryankurylo.com/wp-content/uploads/2026/03/Face-Elements-Clay-scaled.jpg
END:VEVENT
END:VCALENDAR