BEGIN:VCALENDAR
VERSION:2.0
PRODID:-//Ryan Kurylo Fine Artist - ECPv6.15.20//NONSGML v1.0//EN
CALSCALE:GREGORIAN
METHOD:PUBLISH
X-ORIGINAL-URL:https://ryankurylo.com
X-WR-CALDESC:Events for Ryan Kurylo Fine Artist
REFRESH-INTERVAL;VALUE=DURATION:PT1H
X-Robots-Tag:noindex
X-PUBLISHED-TTL:PT1H
BEGIN:VTIMEZONE
TZID:America/Edmonton
BEGIN:DAYLIGHT
TZOFFSETFROM:-0700
TZOFFSETTO:-0600
TZNAME:MDT
DTSTART:20240310T090000
END:DAYLIGHT
BEGIN:STANDARD
TZOFFSETFROM:-0600
TZOFFSETTO:-0700
TZNAME:MST
DTSTART:20241103T080000
END:STANDARD
BEGIN:DAYLIGHT
TZOFFSETFROM:-0700
TZOFFSETTO:-0600
TZNAME:MDT
DTSTART:20250309T090000
END:DAYLIGHT
BEGIN:STANDARD
TZOFFSETFROM:-0600
TZOFFSETTO:-0700
TZNAME:MST
DTSTART:20251102T080000
END:STANDARD
BEGIN:DAYLIGHT
TZOFFSETFROM:-0700
TZOFFSETTO:-0600
TZNAME:MDT
DTSTART:20260308T090000
END:DAYLIGHT
BEGIN:STANDARD
TZOFFSETFROM:-0600
TZOFFSETTO:-0700
TZNAME:MST
DTSTART:20261101T080000
END:STANDARD
END:VTIMEZONE
BEGIN:VEVENT
DTSTART;TZID=America/Edmonton:20250120T180000
DTEND;TZID=America/Edmonton:20250325T210000
DTSTAMP:20260421T150403
CREATED:20241115T220229Z
LAST-MODIFIED:20241115T223408Z
UID:831-1737396000-1742936400@ryankurylo.com
SUMMARY:Figurative Sculpture 8-Evening Workshop
DESCRIPTION:8 Monday evenings. \nExperience a classical art form by sculpting a detailed figure study from a live human model. In this eight week course use the medium of clay to develop foundational skills in proportion\, anatomy\, and expressive detail and successfully create multiple figurative sculptures while finding your own sculpture style. Each session with Sculptor Ryan Kurylo includes step-by-step demos\, hands-on guidance\, and focused practice and will take away the intimidation of working with figurative subject matter. Additionally learn about the history of the medium as you are exposed to historical works and artists. Finished work is done in medium fire-stoneware and work will be able to for pick up approximately 5 to 6 weeks after the last class. Clay and firing are included. A basic set of sculpture tools is required and can be found for approximately $15 – 35 at local art stores. Tools required specially for sculpting: loop tool\, clay wire\, sponge\, pin tool\, wood tools\, etc. EXPERIENCE This course is perfect for both beginners and those with previous pottery or sculpting experience. SAFETY INFORMATION Please note that you will be working with water-based pottery clay (silica).
URL:https://ryankurylo.com/event/figurative-sculpture-8-evening-workshop/
LOCATION:ACT Aquatic Centre\, Edmonton\, 2909 113 Ave NW\, Edmonton\, Alberta\, T5W 4S1\, Canada
ATTACH;FMTTYPE=image/jpeg:https://ryankurylo.com/wp-content/uploads/2023/01/3F91728C-576F-4EA7-8D84-5CE7726E7D54_1_105_c-1.jpeg
END:VEVENT
END:VCALENDAR