BEGIN:VCALENDAR
VERSION:2.0
PRODID:-//Ryan Kurylo Fine Artist - ECPv6.15.20//NONSGML v1.0//EN
CALSCALE:GREGORIAN
METHOD:PUBLISH
X-WR-CALNAME:Ryan Kurylo Fine Artist
X-ORIGINAL-URL:https://ryankurylo.com
X-WR-CALDESC:Events for Ryan Kurylo Fine Artist
REFRESH-INTERVAL;VALUE=DURATION:PT1H
X-Robots-Tag:noindex
X-PUBLISHED-TTL:PT1H
BEGIN:VTIMEZONE
TZID:America/Edmonton
BEGIN:DAYLIGHT
TZOFFSETFROM:-0700
TZOFFSETTO:-0600
TZNAME:MDT
DTSTART:20230312T090000
END:DAYLIGHT
BEGIN:STANDARD
TZOFFSETFROM:-0600
TZOFFSETTO:-0700
TZNAME:MST
DTSTART:20231105T080000
END:STANDARD
BEGIN:DAYLIGHT
TZOFFSETFROM:-0700
TZOFFSETTO:-0600
TZNAME:MDT
DTSTART:20240310T090000
END:DAYLIGHT
BEGIN:STANDARD
TZOFFSETFROM:-0600
TZOFFSETTO:-0700
TZNAME:MST
DTSTART:20241103T080000
END:STANDARD
BEGIN:DAYLIGHT
TZOFFSETFROM:-0700
TZOFFSETTO:-0600
TZNAME:MDT
DTSTART:20250309T090000
END:DAYLIGHT
BEGIN:STANDARD
TZOFFSETFROM:-0600
TZOFFSETTO:-0700
TZNAME:MST
DTSTART:20251102T080000
END:STANDARD
END:VTIMEZONE
BEGIN:VEVENT
DTSTART;TZID=America/Edmonton:20241117T100000
DTEND;TZID=America/Edmonton:20241117T170000
DTSTAMP:20260421T105815
CREATED:20241115T212747Z
LAST-MODIFIED:20241115T212747Z
UID:824-1731837600-1731862800@ryankurylo.com
SUMMARY:Fantastic Faces in Clay Workshop
DESCRIPTION:Discover the art of sculpting expressive faces in this hands-on workshop with natural pottery clay. Delve into the world of emotional storytelling as we learn to form and shape facial features that convey a range of feelings. Guided by your passionate instructor\, you will explore the nuances of expression\, joy\, sorrow\, surprise\, and more. Through step-by-step demonstrations\, participants will master basic sculpting techniques\, emphasizing the creation of lively and evocative faces. This workshop is designed for all skill levels\, fostering a supportive and creative environment where each artist can infuse their unique emotions into the clay\, resulting in a truly expressive and personalized sculpture.
URL:https://ryankurylo.com/event/fantastic-faces-in-clay-workshop/
LOCATION:The Paint Spot Artelier Studio\, 10045 81 Ave\, Edmonton\, AB\, Canada
ATTACH;FMTTYPE=image/jpeg:https://ryankurylo.com/wp-content/uploads/2023/01/Ryan-Kurylo-Sculpting-With-Style-The-Human-Head.jpeg
END:VEVENT
END:VCALENDAR