BEGIN:VCALENDAR
VERSION:2.0
PRODID:-//Ryan Kurylo Fine Artist - ECPv6.15.20//NONSGML v1.0//EN
CALSCALE:GREGORIAN
METHOD:PUBLISH
X-WR-CALNAME:Ryan Kurylo Fine Artist
X-ORIGINAL-URL:https://ryankurylo.com
X-WR-CALDESC:Events for Ryan Kurylo Fine Artist
REFRESH-INTERVAL;VALUE=DURATION:PT1H
X-Robots-Tag:noindex
X-PUBLISHED-TTL:PT1H
BEGIN:VTIMEZONE
TZID:America/Edmonton
BEGIN:DAYLIGHT
TZOFFSETFROM:-0700
TZOFFSETTO:-0600
TZNAME:MDT
DTSTART:20230312T090000
END:DAYLIGHT
BEGIN:STANDARD
TZOFFSETFROM:-0600
TZOFFSETTO:-0700
TZNAME:MST
DTSTART:20231105T080000
END:STANDARD
BEGIN:DAYLIGHT
TZOFFSETFROM:-0700
TZOFFSETTO:-0600
TZNAME:MDT
DTSTART:20240310T090000
END:DAYLIGHT
BEGIN:STANDARD
TZOFFSETFROM:-0600
TZOFFSETTO:-0700
TZNAME:MST
DTSTART:20241103T080000
END:STANDARD
BEGIN:DAYLIGHT
TZOFFSETFROM:-0700
TZOFFSETTO:-0600
TZNAME:MDT
DTSTART:20250309T090000
END:DAYLIGHT
BEGIN:STANDARD
TZOFFSETFROM:-0600
TZOFFSETTO:-0700
TZNAME:MST
DTSTART:20251102T080000
END:STANDARD
END:VTIMEZONE
BEGIN:VEVENT
DTSTART;TZID=America/Edmonton:20240826T180000
DTEND;TZID=America/Edmonton:20240829T210000
DTSTAMP:20260421T075942
CREATED:20240604T030409Z
LAST-MODIFIED:20240604T030409Z
UID:819-1724695200-1724965200@ryankurylo.com
SUMMARY:Human Anatomy for Artists
DESCRIPTION:4 evenings from 6pm – 9pm \nEnhance your figure work with this rare 3D clay anatomy sculpture workshop. Focused on human anatomy\, this workshop covers surface muscles and bony landmarks. We’ll start with an overview of skeletal and muscular anatomy’s role in realistic art. Through lectures\, demonstrations\, and hands-on practice\, you’ll learn to build clay muscles on a skeleton armature to create a classic ecorche (muscle and bone) study. Receive individual feedback\, guidance and encouragement as you complete a dynamically posed anatomy figure. Suitable for all skill levels\, this experiential workshop aims to improve your figurative art across all mediums. \nEmail to register: ryan at ryankurylo dot com \n 
URL:https://ryankurylo.com/event/human-anatomy-for-artists/
LOCATION:Sherwood Park Studio\, Canada
ATTACH;FMTTYPE=image/jpeg:https://ryankurylo.com/wp-content/uploads/2024/06/Screenshot-2024-06-03-at-8.15.05 PM.jpeg
END:VEVENT
END:VCALENDAR